BEGIN:VCALENDAR
VERSION:2.0
PRODID:-//Cluster Lombardo della Mobilità - ECPv6.15.17//NONSGML v1.0//EN
CALSCALE:GREGORIAN
METHOD:PUBLISH
X-ORIGINAL-URL:https://clusterlombardomobilita.it
X-WR-CALDESC:Eventi per Cluster Lombardo della Mobilità
REFRESH-INTERVAL;VALUE=DURATION:PT1H
X-Robots-Tag:noindex
X-PUBLISHED-TTL:PT1H
BEGIN:VTIMEZONE
TZID:UTC
BEGIN:STANDARD
TZOFFSETFROM:+0000
TZOFFSETTO:+0000
TZNAME:UTC
DTSTART:20220101T000000
END:STANDARD
END:VTIMEZONE
BEGIN:VEVENT
DTSTART;VALUE=DATE:20231123
DTEND;VALUE=DATE:20231125
DTSTAMP:20260420T152736
CREATED:20231030T104824Z
LAST-MODIFIED:20231030T104824Z
UID:10000011-1700697600-1700870399@clusterlombardomobilita.it
SUMMARY:WORLD SUMMIT di REGIONE LOMBARDIA
DESCRIPTION:WORLD SUMMIT di REGIONE LOMBARDIA: il 23 plenaria di apertura presso Palazzo Lombardia\, Piazza Città di Lombardia 1 – Milano. Il 24 TALK INTERNAZIONALI presso gli IBM Studios Milano\, Piazza Gae Aulenti 10 – Milano. \nEvento in presenza\, su invito. Per il Cluster parteciperà il Segretario Generale Prof. Ing. Giampiero Mastinu.
URL:https://clusterlombardomobilita.it/event/world-summit-di-regione-lombardia/
LOCATION:IBM Studios\, Piazza Gae Aulenti 10\, Milano\, Italia
END:VEVENT
END:VCALENDAR