BEGIN:VCALENDAR
VERSION:2.0
PRODID:-//Cluster Lombardo della Mobilità - ECPv6.15.17//NONSGML v1.0//EN
CALSCALE:GREGORIAN
METHOD:PUBLISH
X-ORIGINAL-URL:https://clusterlombardomobilita.it
X-WR-CALDESC:Eventi per Cluster Lombardo della Mobilità
REFRESH-INTERVAL;VALUE=DURATION:PT1H
X-Robots-Tag:noindex
X-PUBLISHED-TTL:PT1H
BEGIN:VTIMEZONE
TZID:UTC
BEGIN:STANDARD
TZOFFSETFROM:+0000
TZOFFSETTO:+0000
TZNAME:UTC
DTSTART:20220101T000000
END:STANDARD
END:VTIMEZONE
BEGIN:VEVENT
DTSTART;TZID=UTC:20231023T170000
DTEND;TZID=UTC:20231023T190000
DTSTAMP:20260420T191506
CREATED:20231030T102145Z
LAST-MODIFIED:20231030T102744Z
UID:10000005-1698080400-1698087600@clusterlombardomobilita.it
SUMMARY:Workshop TRANSIZIONE ECOLOGICA E FILIERA AUTOMOTIVE\, nell’ambito della “Settimana per l’energia e la sostenibilità”
DESCRIPTION:Workshop TRANSIZIONE ECOLOGICA E FILIERA AUTOMOTIVE\, nell’ambito della “Settimana per l’energia e la sostenibilità” promossa da Confartigianato (nazionale) con la collaborazione del Cluster Lombardo della Mobilità\, e giunta alla sua 15° edizione\, presso la sede di Confartigianato Lodi  \nLa scaletta della tavola rotonda e del dibattito seguente prevede la moderazione di Lorenzo Rinaldi\, Direttore del quotidiano di Lodi “Il Cittadino” e la presenza di: \nGUIDO GUIDESI – ASSESSORE REGIONE LOMBARDIA \nSAVERIO GABOARDI – PRESIDENTE CLM \nCHRISTIAN CURLISI – PRESIDENTE CIB \nCARLO GIORGIO VISCONTI – PROF. POLITECNICO MILANO \nGRITTI ENIO – OMR \nEvento in presenza\, aperto a tutti\, per partecipare scrivere a: lodi@confartigianato.lodi.it
URL:https://clusterlombardomobilita.it/event/workshop-transizione-ecologica-e-filiera-automotive-nellambito-della-settimana-per-lenergia-e-la-sostenibilita/
LOCATION:Confartigianato Lodi\, Via della Marescalca\, 6\, Lodi\, Italia
CATEGORIES:WG Elettrico,WG Idrogeno,WG Metano
END:VEVENT
END:VCALENDAR