BEGIN:VCALENDAR
VERSION:2.0
PRODID:-//Cluster Lombardo della Mobilità - ECPv6.15.17//NONSGML v1.0//EN
CALSCALE:GREGORIAN
METHOD:PUBLISH
X-WR-CALNAME:Cluster Lombardo della Mobilità
X-ORIGINAL-URL:https://clusterlombardomobilita.it
X-WR-CALDESC:Eventi per Cluster Lombardo della Mobilità
REFRESH-INTERVAL;VALUE=DURATION:PT1H
X-Robots-Tag:noindex
X-PUBLISHED-TTL:PT1H
BEGIN:VTIMEZONE
TZID:UTC
BEGIN:STANDARD
TZOFFSETFROM:+0000
TZOFFSETTO:+0000
TZNAME:UTC
DTSTART:20250101T000000
END:STANDARD
END:VTIMEZONE
BEGIN:VEVENT
DTSTART;TZID=UTC:20260430T160000
DTEND;TZID=UTC:20260430T173000
DTSTAMP:20260422T012602
CREATED:20260120T140806Z
LAST-MODIFIED:20260421T073221Z
UID:10000575-1777564800-1777570200@clusterlombardomobilita.it
SUMMARY:WG MOBILITA' ELETTRICA
DESCRIPTION:Il Cluster Lombardo della Mobilità organizza giovedì 30 aprile 2026 dalle ore 16:00 alle ore 17:00\, nell’ambito del Gruppo Tematico della “Sostenibilità Ambientale” – Working Group Mobilità Elettrica\, un incontro online in cui si parlerà di: “Prospettive nella mobilità elettrica”. \nAgenda: \n16:00    Presentazione del Gruppo di Lavoro \nDott. Saverio GABOARDI (Presidente CLM) \n16:10    Progettualità CLM per l’eccellenza lombarda nella componentistica per veicoli elettrici \nProf. Gianpiero MASTINU (Segretario generale CLM) \n16:20     Il ruolo di A2A E-Mobility all’interno del mercato della mobilità elettrica – scenari futuri \nDott. Marco CURATOLO (Business Development & Analytics A2A E-Mobility) \nIng. Eric MESSINA (Business Development & Analytics A2A E-Mobility) \n16:40    Bandi di finanziamento di Regione Lombardia \nIng. Piersandro TREVISAN (Development Advisor CLM) \n16:50     Bando LIFE: progetto FGasFreeLIFE \nIng. Sara CORTESE (Project Manager CLM) \n16:55     Dibattito aperto tra i partecipanti \nIng. Francesco BRAGA (WG Coordinator CLM) \n17:00     Conclusioni e prossimi passi \nDott. Saverio GABOARDI (Presidente CLM) \nLa partecipazione è RISERVATA AGLI ASSOCIATI\, a partire da quelli aderenti al WG Mobilità Elettrica. \nPer iscriversi è necessario compilare ENTRO LE ORE 12:00 DEL 30/4/26 il modulo disponibile su: \nhttps://forms.gle/kgjkav5K28GXFeuX9 \nIl link per il collegamento (su piattaforma Google Meet) verrà condiviso con gli iscritti dopo la chiusura delle registrazioni. \n 
URL:https://clusterlombardomobilita.it/event/wg-mobilita-elettrica-5/
CATEGORIES:Evento organizzato dal CLM,WG Elettrico
ATTACH;FMTTYPE=image/jpeg:https://clusterlombardomobilita.it/wp-content/uploads/2023/12/unnamedv-1-e1706537710289.jpeg
END:VEVENT
END:VCALENDAR