BEGIN:VCALENDAR
VERSION:2.0
PRODID:-//Cluster Lombardo della Mobilità - ECPv6.15.17//NONSGML v1.0//EN
CALSCALE:GREGORIAN
METHOD:PUBLISH
X-WR-CALNAME:Cluster Lombardo della Mobilità
X-ORIGINAL-URL:https://clusterlombardomobilita.it
X-WR-CALDESC:Eventi per Cluster Lombardo della Mobilità
REFRESH-INTERVAL;VALUE=DURATION:PT1H
X-Robots-Tag:noindex
X-PUBLISHED-TTL:PT1H
BEGIN:VTIMEZONE
TZID:UTC
BEGIN:STANDARD
TZOFFSETFROM:+0000
TZOFFSETTO:+0000
TZNAME:UTC
DTSTART:20250101T000000
END:STANDARD
END:VTIMEZONE
BEGIN:VEVENT
DTSTART;TZID=UTC:20260128T160000
DTEND;TZID=UTC:20260128T190000
DTSTAMP:20260422T044615
CREATED:20260113T140831Z
LAST-MODIFIED:20260113T140831Z
UID:10000562-1769616000-1769626800@clusterlombardomobilita.it
SUMMARY:“Mobilità elettrica e industria italiana: i risultati della survey 2025” - OSSERVATORIO TEA
DESCRIPTION:Evento “Mobilità elettrica e industria italiana: i risultati della survey 2025”\, promosso dall’Osservatorio TEA e in programma mercoledì 28 gennaio\, a partire dalle ore 16:00\, presso il Ministero delle Imprese e del Made in Italy. \nEvento riservato\, su invito. \nPer il Cluster parteciperà il Presidente\, dott. Saverio Gaboardi\, in qualità di membro del Comitato Scientifico.
URL:https://clusterlombardomobilita.it/event/mobilita-elettrica-e-industria-italiana-i-risultati-della-survey-2025-osservatorio-tea/
CATEGORIES:WG Business Development,WG Elettrico
ATTACH;FMTTYPE=image/jpeg:https://clusterlombardomobilita.it/wp-content/uploads/2026/01/Immagine-2026-01-13-150629.jpg
END:VEVENT
END:VCALENDAR