BEGIN:VCALENDAR
VERSION:2.0
PRODID:-//Cluster Lombardo della Mobilità - ECPv6.15.17//NONSGML v1.0//EN
CALSCALE:GREGORIAN
METHOD:PUBLISH
X-WR-CALNAME:Cluster Lombardo della Mobilità
X-ORIGINAL-URL:https://clusterlombardomobilita.it
X-WR-CALDESC:Eventi per Cluster Lombardo della Mobilità
REFRESH-INTERVAL;VALUE=DURATION:PT1H
X-Robots-Tag:noindex
X-PUBLISHED-TTL:PT1H
BEGIN:VTIMEZONE
TZID:UTC
BEGIN:STANDARD
TZOFFSETFROM:+0000
TZOFFSETTO:+0000
TZNAME:UTC
DTSTART:20240101T000000
END:STANDARD
END:VTIMEZONE
BEGIN:VEVENT
DTSTART;TZID=UTC:20250702T093000
DTEND;TZID=UTC:20250702T170000
DTSTAMP:20260426T013404
CREATED:20250617T160109Z
LAST-MODIFIED:20250617T160223Z
UID:10000476-1751448600-1751475600@clusterlombardomobilita.it
SUMMARY:AI-MATTERS ROADSHOW L'AI che fa la differenza nel manifatturiero - CSMT Innovation Hub
DESCRIPTION:AI-MATTERS Roadshow fa tappa a Brescia\, presso la nostra associata CSMT\, con una giornata interamente dedicata all’Intelligenza Artificiale applicata all’industria. Un’occasione unica per scoprire strumenti e approcci concreti per affrontare con successo le sfide legate all’Intelligenza Artificiale. \nEvento gratuito\, aperto al pubblico previa iscrizione QUI. \nPer il Cluster sarà presente il nostro Development Advisor Ing. Piersandro Trevisan.
URL:https://clusterlombardomobilita.it/event/ai-matters-roadshow-lai-che-fa-la-differenza-nel-manifatturiero-csmt-innovation-hub/
CATEGORIES:Evento partecipato dal CLM,WG Artificial Intelligence
ATTACH;FMTTYPE=image/jpeg:https://clusterlombardomobilita.it/wp-content/uploads/2025/06/Immagine-2025-06-17-175949.jpg
END:VEVENT
END:VCALENDAR