BEGIN:VCALENDAR
VERSION:2.0
PRODID:-//Cluster Lombardo della Mobilità - ECPv6.15.17//NONSGML v1.0//EN
CALSCALE:GREGORIAN
METHOD:PUBLISH
X-WR-CALNAME:Cluster Lombardo della Mobilità
X-ORIGINAL-URL:https://clusterlombardomobilita.it
X-WR-CALDESC:Eventi per Cluster Lombardo della Mobilità
REFRESH-INTERVAL;VALUE=DURATION:PT1H
X-Robots-Tag:noindex
X-PUBLISHED-TTL:PT1H
BEGIN:VTIMEZONE
TZID:UTC
BEGIN:STANDARD
TZOFFSETFROM:+0000
TZOFFSETTO:+0000
TZNAME:UTC
DTSTART:20240101T000000
END:STANDARD
END:VTIMEZONE
BEGIN:VEVENT
DTSTART;TZID=UTC:20250404T140000
DTEND;TZID=UTC:20250404T180000
DTSTAMP:20260426T040732
CREATED:20250401T164433Z
LAST-MODIFIED:20250401T170005Z
UID:10000405-1743775200-1743789600@clusterlombardomobilita.it
SUMMARY:"Le nuove frontiere per gli sviluppi sostenibili: AI\, innovazione e formazione per la tutela dell’ambiente"
DESCRIPTION:“Le nuove frontiere per gli sviluppi sostenibili: AI\, innovazione e formazione per la tutela dell’ambiente”\, organizzato dalla nostra associata Università Cattolica del Sacro Cuore venerdì 4 aprile 2025\, ore 14.15 in presenza in Aula 2 di Via Garzetta 48\, Campus di Mompiano\, Brescia ed in videocollegamento dalla sede di Milano\, Aula Colombo. \n \nLocandina allegata.\nPartecipazione gratuita\,​ previa iscrizione​ cliccando qui​. \n\n \nPer il Cluster parteciperà il WG COORDINATOR Ing. Francesco Braga
URL:https://clusterlombardomobilita.it/event/le-nuove-frontiere-per-gli-sviluppi-sostenibili-ai-innovazione-e-formazione-per-la-tutela-dellambiente/
CATEGORIES:Evento partecipato dal CLM,WG Artificial Intelligence
ATTACH;FMTTYPE=application/pdf:https://clusterlombardomobilita.it/wp-content/uploads/2025/04/Locandina-Le-nuove-frontiere-per-gli-sviluppi-sostenibili.pdf
END:VEVENT
END:VCALENDAR