BEGIN:VCALENDAR
VERSION:2.0
PRODID:-//Cluster Lombardo della Mobilità - ECPv6.15.17//NONSGML v1.0//EN
CALSCALE:GREGORIAN
METHOD:PUBLISH
X-WR-CALNAME:Cluster Lombardo della Mobilità
X-ORIGINAL-URL:https://clusterlombardomobilita.it
X-WR-CALDESC:Eventi per Cluster Lombardo della Mobilità
REFRESH-INTERVAL;VALUE=DURATION:PT1H
X-Robots-Tag:noindex
X-PUBLISHED-TTL:PT1H
BEGIN:VTIMEZONE
TZID:UTC
BEGIN:STANDARD
TZOFFSETFROM:+0000
TZOFFSETTO:+0000
TZNAME:UTC
DTSTART:20230101T000000
END:STANDARD
END:VTIMEZONE
BEGIN:VEVENT
DTSTART;VALUE=DATE:20241009
DTEND;VALUE=DATE:20241012
DTSTAMP:20260415T113716
CREATED:20240624T142536Z
LAST-MODIFIED:20240624T142754Z
UID:10000189-1728432000-1728691199@clusterlombardomobilita.it
SUMMARY:Americas' mobility of the future - 2024 Poliforum Leon\, Guanajuato MEXICO
DESCRIPTION:Americas’ mobility of the future is the showcase for the mobility of the future\, with a comprehensive program of keynotes\, panel discussions and project presentations\, seeking to develop the intersection between the current form of mobility and the future of mobility; Industry 4.0. Learn about the latest advances in the electromobility industry\, smart cities and mobility technology developments on the exhibition floor. \nDate: October 9-11 \nTime: Wednesday and Thursday11:00 am – 7:00 pm \nFriday 11:00 am – 5:00pm \nEvent organized by Italian German Exhibition Company Mexico. \nDownload here the PROGRAM.
URL:https://clusterlombardomobilita.it/event/americas-mobility-of-the-future-2024-poliforum-leon-guanajuato-mexico/
CATEGORIES:Evento interessante per il CLM
ATTACH;FMTTYPE=image/png:https://clusterlombardomobilita.it/wp-content/uploads/2024/06/LG-MOB-2.png
END:VEVENT
END:VCALENDAR