BEGIN:VCALENDAR
VERSION:2.0
PRODID:-//Cluster Lombardo della Mobilità - ECPv6.15.17//NONSGML v1.0//EN
CALSCALE:GREGORIAN
METHOD:PUBLISH
X-ORIGINAL-URL:https://clusterlombardomobilita.it/en/
X-WR-CALDESC:Events for Cluster Lombardo della Mobilità
REFRESH-INTERVAL;VALUE=DURATION:PT1H
X-Robots-Tag:noindex
X-PUBLISHED-TTL:PT1H
BEGIN:VTIMEZONE
TZID:UTC
BEGIN:STANDARD
TZOFFSETFROM:+0000
TZOFFSETTO:+0000
TZNAME:UTC
DTSTART:20250101T000000
END:STANDARD
END:VTIMEZONE
BEGIN:VEVENT
DTSTART;TZID=UTC:20260409T160000
DTEND;TZID=UTC:20260409T173000
DTSTAMP:20260421T183055
CREATED:20260120T140555Z
LAST-MODIFIED:20260120T140555Z
UID:10000577-1775750400-1775755800@clusterlombardomobilita.it
SUMMARY:WG DIGITAL SYSTEMS
DESCRIPTION:The Lombardo Cluster of Mobility (CLM) is organizing an online meeting of the Digital Systems Working Group on Thursday\, April 9\, 2026\, from 4 to 5:30 p.m. dedicated to market update\, scenarios and planning. \nMembers-only meeting.
URL:https://clusterlombardomobilita.it/en/event/wg-digital-systems-4/
CATEGORIES:Event organized by CLM,WG Sensors
ATTACH;FMTTYPE=image/jpeg:https://clusterlombardomobilita.it/wp-content/uploads/2023/03/Artificial-Intelligence-AI-Automotive-AT_tcm56-91268.jpg
END:VEVENT
BEGIN:VEVENT
DTSTART;TZID=UTC:20260416T160000
DTEND;TZID=UTC:20260416T173000
DTSTAMP:20260421T183055
CREATED:20260303T150229Z
LAST-MODIFIED:20260421T073656Z
UID:10000615-1776355200-1776360600@clusterlombardomobilita.it
SUMMARY:WG RENEWABLE FUELS
DESCRIPTION:The Lombardy Mobility Cluster is organizing the RENEWABLE FUELS Working Group on Thursday\, April 16\, 2026 from 4:00 to 5:30 p.m. as part of the “Environmental Sustainability” thematic table to take stock of the situation at the institutional level\, resume and evaluate the updates of the Renewable Fuels Notebook\, and assess the development of projects/initiatives on the topic. \nAgenda: \n16:00 Introduction \nSaverio GABOARDI (CLM President) \n\n16:05 Updates from CLM/Regione Lombardia’s “Renewable Fuels Notebook” \nPiersandro TREVISAN (CLM) \n16:20 Renewable fuels and the Motfuel project \nCarlo VISCONTI (POLIMI)\nAngelo ONORATI (POLIMI) \n16:40 Scenarios for the use of efuels: initial results \nMarco CHIODI (FKFS)\nAntonino VACCA (FKFS) \n17:00 Biofuel use scenarios and feedstock \nFranco CAVALLINO (CLM) \n17:15 Debate- Q&A and new initiatives \n17:25 Conclusion and proposal \nXavier GABOARDI \nParticipation is open to all members\, starting with those who are members of WG Methane Biomethane. To register\, you must fill out by noon on 4/16/2026 the form available at: https://forms.gle/tf1YdVZdzdj4GwZQ6 \nThe link for the link will be shared with members after registration closes. \nMembers-only meeting.
URL:https://clusterlombardomobilita.it/en/event/wg-renewable-fuels-4/
CATEGORIES:Event organized by CLM,WG Renewable Fuels
ATTACH;FMTTYPE=image/png:https://clusterlombardomobilita.it/wp-content/uploads/2026/03/IMMAGINE-CARBURANTI-RINNOVABILI.png
END:VEVENT
BEGIN:VEVENT
DTSTART;TZID=UTC:20260423T140000
DTEND;TZID=UTC:20260423T173000
DTSTAMP:20260421T183055
CREATED:20260120T135802Z
LAST-MODIFIED:20260421T073543Z
UID:10000573-1776952800-1776965400@clusterlombardomobilita.it
SUMMARY:ORDINARY GENERAL MEETING OF MEMBERS OF THE LOMBARDO MOBILITY CLUSTER and CONFERENCE "COMPETENCES FOR TRANSITION"
DESCRIPTION:The Lombardy Mobility Cluster is pleased to invite you to the  next Ordinary General Meeting to beheld on April 23\,  2026\, in attendance\,at the renovated premises of the Liceo Scientifico Internazionale Guido Carli in Brescia\, Via Stretta 175\, a few minutes’ walk from the Prealpino Metro stop.  \nThe Assembly will be preceded at 2 p.m. by a public sectionduring which the “Skills for Transition” conference will be held\,with talks by Professors Giordano Lanzanova (AIB Training Center of Castel Mella) and Davide Scaglia (Guido Carli International High School of Science)\, and a visit to the new laboratories at the high school. \nPROGRAM:\n\n\nSection also open to non-members. \n\n2:00 p.m. to 2:15 p.m.: Welcome coffee;\n2:15 to 2:30 p.m.: Institutional greetings by. Chiara MUSATTI\, Director of AIB Training Center and Andrea BERNESCO LAVORE\, Principal of Guido Carli High School.\n2:30 p.m. to 3:45 p.m.: Visit to workshops and Conference devoted to COMPETENCES FOR TRANSITION\, with talks by:\n\nGiordano LANZANOVA\, Professor in charge of professional paths on vehicle maintenance and repair at the AIB Training Center in Castel Mella;\nDavid SCAGLIA\, Professor of Natural Science at Guido Carli International High School of Science.\n\n\n\nMembers-only section. \n\n3:45 to 5:30 p.m.: Ordinary General Meeting of CLM Members.
URL:https://clusterlombardomobilita.it/en/event/wg-business-development-4/
CATEGORIES:Event organized by CLM,WG Business Development
ATTACH;FMTTYPE=application/pdf:https://clusterlombardomobilita.it/wp-content/uploads/2026/01/2026-4-23-Locandina-verticalev2.pdf
END:VEVENT
BEGIN:VEVENT
DTSTART;TZID=UTC:20260428T100000
DTEND;TZID=UTC:20260428T143000
DTSTAMP:20260421T183055
CREATED:20260408T075353Z
LAST-MODIFIED:20260408T075353Z
UID:10000638-1777370400-1777386600@clusterlombardomobilita.it
SUMMARY:Innovation Days 2026 Lombardy - The Sun 24 Hours Events
DESCRIPTION:First stop in Lombardy of the eighth edition of the roadshow of Il Sole 24 Ore\, carried out in collaboration with Confindustria\, which crosses the Italian regions to meet with local entrepreneurs. The appointment will offer a timely analysis of the main territorial realities\, highlighting their strengths\, criticalities and development prospects\, with particular attention to opportunities for growth and opening to international markets. At the conclusion of the meeting there will be a Networking Business moment\, dedicated to direct dialogue between speakers\, partners and participants\, to encourage the sharing of experiences and the emergence of new collaborations.   \nFree event\, in attendance at  Confindustria Brescia\, Conference Room Cav. Lav. Pier Giuseppe Beretta –  Brescia\, open to the public upon registration at: LINK_REGISTRATION_IN_PRESENCE \nFor the Cluster\, President Dr. Saverio Gaboardi will participate. \n 
URL:https://clusterlombardomobilita.it/en/event/innovation-days-2026-lombardy-the-sun-24-hours-events/
CATEGORIES:Event attended by CLM,WG Business Development
ATTACH;FMTTYPE=image/jpeg:https://clusterlombardomobilita.it/wp-content/uploads/2026/04/Immagine-2026-04-08-095040.jpg
END:VEVENT
BEGIN:VEVENT
DTSTART;TZID=UTC:20260430T160000
DTEND;TZID=UTC:20260430T173000
DTSTAMP:20260421T183055
CREATED:20260120T140806Z
LAST-MODIFIED:20260421T073501Z
UID:10000576-1777564800-1777570200@clusterlombardomobilita.it
SUMMARY:WG ELECTRIC MOBILITY
DESCRIPTION:The Lombardy Mobility Cluster is organizing an online meeting on Thursday\, April 30\, 2026 from 4:00 p.m. to 5:00 p.m.\, as part of the Thematic Group of “Environmental Sustainability” – Working Group Electric Mobility\, where they will discuss: “Perspectives in Electric Mobility. \nAgenda: \n16:00 Presentation of the Working Group \nDr. Saverio GABOARDI (President CLM) \n16:10 CLM projects for Lombard excellence in electric vehicle components \nProf. Gianpiero MASTINU (Secretary General CLM) \n16:20     A2A E-Mobility’s role within the electric mobility market – future scenarios \nDr. Marco CURATOLO (Business Development & Analytics A2A E-Mobility) \nEng. Eric MESSINA (Business Development & Analytics A2A E-Mobility) \n16:40    Lombardy Region funding announcements \nEng. Piersandro TREVISAN (Development Advisor CLM) \n16:50 LIFE Call for Proposals: FGasFreeLIFE Project \nEng. Sara CORTESE (CLM Project Manager) \n16:55 Open discussion among participants \nEng. Francesco BRAGA (WG Coordinator CLM) \n17:00 Conclusions and next steps \nDr. Saverio GABOARDI (President CLM) \nParticipation is RESTRICTED TO ASSOCIATES\, starting with those who are members of the Electric Mobility WG. \nTo register\, you must complete BY NOON ON 4/30/26 the form available at: \nhttps://forms.gle/kgjkav5K28GXFeuX9 \nThe link for the connection (on Google Meet platform) will be shared with members after registration closes. \n 
URL:https://clusterlombardomobilita.it/en/event/wg-electric-mobility-5/
CATEGORIES:Event organized by CLM,WG Electric
ATTACH;FMTTYPE=image/jpeg:https://clusterlombardomobilita.it/wp-content/uploads/2023/12/unnamedv-1-e1706537710289.jpeg
END:VEVENT
BEGIN:VEVENT
DTSTART;VALUE=DATE:20260513
DTEND;VALUE=DATE:20260517
DTSTAMP:20260421T183055
CREATED:20260129T174354Z
LAST-MODIFIED:20260129T174354Z
UID:10000596-1778630400-1778975999@clusterlombardomobilita.it
SUMMARY:NEXT MOBILITY EXHIBITION - Fiera Milano Rho
DESCRIPTION:NME – Next Mobility Exhibition is the biennial international event dedicated to solutions\, technologies\, means and policies for an integrated\, innovative and sustainable people mobility system. The event\, which brings together leading companies and national and international stakeholders\, will be held in Milan: the first city in Italy and seventh in Europe for sharing and electric mobility. \nNME is an integrated platform of business\, content and relationships designed to generate value for the entire people mobility ecosystem. The concept of the event consists of:  \n\nExhibition of vehicles\, technologies and systems for public and collective transport;\nqualified networking among companies\, operators\, institutions and stakeholders;\nconferences\, seminars and workshops on the key issues of future mobility;\nBusiness matching activities to foster new collaborations and development opportunities.\n\nEvent open to industry professionals. For the Cluster\, Development Advisor ing. Piersandro Trevisan will participate.
URL:https://clusterlombardomobilita.it/en/event/next-mobility-exhibition-fiera-milano-rho/
CATEGORIES:Event attended by CLM,WG Local Public Transportation
ATTACH;FMTTYPE=image/jpeg:https://clusterlombardomobilita.it/wp-content/uploads/2026/01/Immagine-2026-01-29-184303.jpg
END:VEVENT
BEGIN:VEVENT
DTSTART;VALUE=DATE:20260513
DTEND;VALUE=DATE:20260517
DTSTAMP:20260421T183055
CREATED:20260129T174708Z
LAST-MODIFIED:20260129T174708Z
UID:10000597-1778630400-1778975999@clusterlombardomobilita.it
SUMMARY:Transpotec Logitec: the benchmark for freight transport and logistics - Fiera Milano Rho
DESCRIPTION:Transpotec Logitec\, organized by Fiera Milano\, is Italy’s leading event for freight transport and integrated logistics.\nAn international event that brings together manufacturers\, operators and decision makers to share visions\, innovations and strategies that drive the future of freight mobility. \nThe 2026 edition represents a decisive step forward: next to the well-established area dedicated to trucking\, the Logitec space will be revamped and become a protagonist\, expanding the exhibition offering to include technologies\, services and solutions for the supply chain. \nTranspotec Logitec 2026 will be held from May 13 to 16 at Fiera Milano (Rho)\, simultaneously with NME – Next Mobility Exhibition\, the event dedicated to an integrated\, innovative and sustainable people mobility system. The simultaneity of the two events will transform Fiera Milano into a mobility reference point where to discuss common challenges to the movement of goods and people\, from energy and digital transition to infrastructure development and the challenges of intermodality.  \nEvent open to practitioners. For the Cluster\, Development Advisor ing. Piersandro Trevisan will participate. \n 
URL:https://clusterlombardomobilita.it/en/event/transpotec-logitec-the-benchmark-for-freight-transport-and-logistics-fiera-milano-rho/
CATEGORIES:Event attended by CLM,WG Infrastructure
ATTACH;FMTTYPE=image/jpeg:https://clusterlombardomobilita.it/wp-content/uploads/2026/01/Immagine-2026-01-29-184959.jpg
END:VEVENT
BEGIN:VEVENT
DTSTART;TZID=UTC:20260514T080000
DTEND;TZID=UTC:20260514T170000
DTSTAMP:20260421T183055
CREATED:20251111T143505Z
LAST-MODIFIED:20251222T162111Z
UID:10000552-1778745600-1778778000@clusterlombardomobilita.it
SUMMARY:IOMOBILITY AWARDS - GALA DINNER & AWARDS CEREMONY @ MUSEO SCIENZA E TECNOLOGIA MILANO
DESCRIPTION:Now in its 6th Edition\, IOMOBILITY AWARDS aims to promote the culture of innovation and entrepreneurship in the Next Generation Mobility ecosystem in Italy by selecting\, enhancing and rewarding the best innovative services and projects on the market today (in the last edition\, +100 entries in 14 categories + 4 special prizes). The Award is aimed not only at startups but also at SMEs and corporations\, aiming to represent the entire mobility landscape from an innovative services perspective.  \nThe Jury that evaluates the IoMOBILITY AWARDS projects is composed of Top Managers from the main Italian and international players in the new connected\, smart and green mobility. \nIn addition to the activities for the implementation of the Prize – such as collection of applications\, evaluation by the Jury Committee\, pitch of the finalist projects\, etc. – the initiative is developed through a path designed to foster networking opportunities in exclusive moments of meeting\, reserved for our community: \n\nJan. 28\, 2026 NEXGEN MOBILITY CONFERENCE @ UniCredit Tower Hall (14:00-18:00)- conference dedicated to technology\, research\, innovation\, investment (+160 participants)\n14 maggio 2026 GALA DINNER & AWARDS CEREMONY @ Museo Scienza e Tecnologia (18:00 – 22:00) – Momento centrale di visibilità e networking tra tutti i partecipanti all’iniziativa\, nell’esclusiva Cena di Gala con la proclamazione dei vincitori (+170 stakeholder)\nIoMOBILITY CIRCLE(s) – networking meetings in Milan and Rome reserved for partners\, jurors and VIP guests to discuss hot topics in Smart Mobility .\n\n  The Lombard Mobility Cluster is pleased to participate in IoMOBILITY AWARDS as a Networking Partner! \nConfidential event. For the Cluster\, our Development Advisor ing. Piersandro Trevisan will participate in the initiative.
URL:https://clusterlombardomobilita.it/en/event/iomobility-awards-gala-dinner-awards-ceremony-museo-scienza-e-tecnologia-milano/
CATEGORIES:Event attended by CLM,WG Business Development
ATTACH;FMTTYPE=image/jpeg:https://clusterlombardomobilita.it/wp-content/uploads/2025/11/Immagine-2025-11-11-133420.jpg
END:VEVENT
BEGIN:VEVENT
DTSTART;TZID=UTC:20260514T160000
DTEND;TZID=UTC:20260514T173000
DTSTAMP:20260421T183055
CREATED:20260120T141146Z
LAST-MODIFIED:20260120T141146Z
UID:10000580-1778774400-1778779800@clusterlombardomobilita.it
SUMMARY:WG MATERIALS\, LIGHTENING AND MOTORSPORT
DESCRIPTION:The Lombardy Mobility Cluster (CLM) is organizing an online meeting of the Materials\, Lightening and Motorsport Working Group on Thursday\, May 14\, 2026\, from 4 to 5:30 p.m. dedicated to market update\, scenarios and planning. \nMembers-only meeting.
URL:https://clusterlombardomobilita.it/en/event/wg-materials-lightening-and-motorsport-4/
CATEGORIES:Event organized by CLM,WG Materials/Lighting/Motorsport
ATTACH;FMTTYPE=image/jpeg:https://clusterlombardomobilita.it/wp-content/uploads/2025/03/graphene-structure-materiali.jpg
END:VEVENT
BEGIN:VEVENT
DTSTART;VALUE=DATE:20260528
DTEND;VALUE=DATE:20260601
DTSTAMP:20260421T183055
CREATED:20260421T064058Z
LAST-MODIFIED:20260421T064058Z
UID:10000637-1779926400-1780271999@clusterlombardomobilita.it
SUMMARY:MOTOR VALLEY FEST 2026 - Modena
DESCRIPTION:Motor Valley Fest is a celebration of the Land of Motors: a journey through innovation\, culture\, passion and design in the heart of Emilia-Romagna.\nHere where four- and two-wheel myths are born\, automotive excellence\, legendary brands\, universities\, startups and talent meet.\nAn open-air festival of the Land of Motors of Emilia-Romagna\, scheduled for May 28-31\, 2026\, open to all\, where the roar of engines meets the future of mobility. \nThe Inaugural Conference of the eighth edition of Motor Valley Fest\, entitled “Global Trends\, New Frontiers and Human Responsibility\,” will be held on May 28\, 2026 at 9 a.m. at the Storchi Theater in Modena. After institutional greetings\, the program includes a series of keynote speeches of international scope\, featuring: \n– Jan-Christoph Köstring and Gemma D’Auria\, Senior Partners McKinsey & Company\n– Father Paolo Benanti\, Chairman of the Commission on Artificial Intelligence for Information\, Presidency of the Council of Ministers\n– Daniele Pucci\, CEO of Generative Bionics\n– Bruce Baumgartner\, Vice President Supply Chain\, Quality & Reliability\, Zoox \nAt 11 a.m. the Motor Valley Top Table\, a discussion between the top management of the district’s major brands\, will come to life: \nAndrea Pontremoli – President Motor Valley and CEO Dallara Group\nBenedetto Vigna – CEO Ferrari S.p.A.\nSanto Ficili– CEO Maserati S.p.A. and Alfa Romeo\nHoracio Pagani – Founder and Chief Designer Pagani Automobili S.p.A.\nStephan Winkelmann – Chairman and CEO Automobili Lamborghini S.p.A.\nClaudio Domenicali – CEO Ducati Motor Holding S.p.A. \nA symbolic ribbon cutting will be held at 1 p.m. in the presence of dignitaries. \nThe opening event is open to the public upon reservation on the official Motor Valley Fest website and is streamed live on the Motor Valley Fest website and YouTube channel. \nFor the Cluster\, President Dr. Saverio Gaboardi will participate.
URL:https://clusterlombardomobilita.it/en/event/motor-valley-fest-2026-modena/
CATEGORIES:Event attended by CLM,WG Business Development
ATTACH;FMTTYPE=image/jpeg:https://clusterlombardomobilita.it/wp-content/uploads/2026/04/Immagine-2026-04-21-083956.jpg
END:VEVENT
BEGIN:VEVENT
DTSTART;TZID=UTC:20260528T093000
DTEND;TZID=UTC:20260528T133000
DTSTAMP:20260421T183055
CREATED:20260413T154949Z
LAST-MODIFIED:20260413T154949Z
UID:10000636-1779960600-1779975000@clusterlombardomobilita.it
SUMMARY:Connected Vehicle & Mobility Driving the Future Observatory: mobility at the decisive curve -
DESCRIPTION:Concluding conference  of the 2025-26 edition of theConnected Vehicle & Mobility Observatory\, entitled: “Driving the Future: mobility at the decisive curve“ \nIt will be possible to attend the event for free exclusively in attendance at the De Carli Lecture Hall at 10 Via Giovanni Durando (Milan) by registering at this link: ConvegnoMobility26 \nOn the institutional panel will be Hon. Giulia Pastorella and Maria Cristina Galassi from DG GROW of the European Commission. There will also be several cars on display and promotional demo-corners for companies.   \nFor the Cluster\, Development Advisor ing. Piersandro Trevisan will participate.
URL:https://clusterlombardomobilita.it/en/event/connected-vehicle-mobility-driving-the-future-observatory-mobility-at-the-decisive-curve/
CATEGORIES:Event attended by CLM,WG Business Development
ATTACH;FMTTYPE=application/pdf:https://clusterlombardomobilita.it/wp-content/uploads/2026/04/Agenda-Convegno-Vehicle-Mobility-28-maggio.pdf
END:VEVENT
BEGIN:VEVENT
DTSTART;TZID=UTC:20260611T160000
DTEND;TZID=UTC:20260611T173000
DTSTAMP:20260421T183055
CREATED:20260120T141349Z
LAST-MODIFIED:20260325T072449Z
UID:10000581-1781193600-1781199000@clusterlombardomobilita.it
SUMMARY:WG AFTER SALES
DESCRIPTION:The Lombardo Cluster of Mobility (CLM) is organizing an online meeting of the “After sales” Working Group on Thursday\, June 11\, 2026\, from 4 p.m. to 5:30 p.m.\, dedicated to market update\, scenarios and planning. \nMembers-only meeting.
URL:https://clusterlombardomobilita.it/en/event/wg-after-sales-2/
CATEGORIES:Event organized by CLM,WG After Sales
ATTACH;FMTTYPE=image/jpeg:https://clusterlombardomobilita.it/wp-content/uploads/2025/05/After-Sales-Service-2.jpg
END:VEVENT
BEGIN:VEVENT
DTSTART;TZID=UTC:20260618T160000
DTEND;TZID=UTC:20260618T173000
DTSTAMP:20260421T183055
CREATED:20260120T135508Z
LAST-MODIFIED:20260206T095259Z
UID:10000572-1781798400-1781803800@clusterlombardomobilita.it
SUMMARY:WG HISTORICAL MOTORING
DESCRIPTION:Il Cluster Lombardo della Mobilità (CLM) organizza giovedì 18 giugno 2026\, dalle ore 16.00 alle ore 17.30\, un incontro on line del Gruppo di Lavoro “Motorismo Storico” dedicato all’aggiornamento del mercato\, agli scenari e alla progettualità. \nIncontro riservato ai soci.
URL:https://clusterlombardomobilita.it/en/event/wg-historical-motoring-3/
CATEGORIES:Event organized by CLM,WG Historic Motorsports
ATTACH;FMTTYPE=image/jpeg:https://clusterlombardomobilita.it/wp-content/uploads/2024/12/PRIMA-1000MIGLIA.jpg
END:VEVENT
BEGIN:VEVENT
DTSTART;VALUE=DATE:20260902
DTEND;VALUE=DATE:20260906
DTSTAMP:20260421T183055
CREATED:20260311T073708Z
LAST-MODIFIED:20260311T073708Z
UID:10000625-1788307200-1788652799@clusterlombardomobilita.it
SUMMARY:55th AIAS National Conference\, Politecnico di Milano - Bovisa
DESCRIPTION:The AIAS (Italian Scientific Society of Mechanical Design and Machine Building) conference\, organized by our founding member Politecnico di Milano and now in its 55th edition\, is an important meeting opportunity for Professors and Researchers\, PhD students\, students and engineers with interests in the field of stress analysis and mechanical design.\n\nBased on the success of previous events\, the AIAS Conference can be seen as a unique opportunity for experts to share and discuss the results of their research. University professors\, researchers\, professional engineers and students will be able to share their know-how\, contribute to knowledge transfer\, and interact with interested parties (stakeholders). The conference will be accompanied by an exhibition of companies with specific interest in the topics at hand (testing machines\, measurement systems\, software for structure analysis\, FEM\, etc.).  \n\n\nAuthors who wish to submit their own work\, to be eventually included in the proceedings\, must complete their registration with payment of the fee no later than APRIL 30. This deadline for organizational reasons will not be extended.\nPapers for which registration has not been finalized by that date  will not  be included in the program.\n\n\n\n\n\n\n\nAIAS membership is required to attend the conference.  The MEMBER/AUTHOR registration fee includes:\n\n\n\nAIAS membership for the year 2026-27;\nThe use of Google G-Suite on dedicated AIAS accounts;\nAccess to all scientific sessions;\nThe ability to submit one’s work for publication in indexed proceedings.\n\n\n\n\n\n\n\n\nThe fee ESCORT must always be associated with at least one conference attendee registration\, includes participation in the social dinner\, lunches and coffee breaks. To the accompanying persons  is not allowed Participate in the work of the conference.\n\n\n\nMinors do not pay any participation fee\, but they must be registered before the start of the conference. Each minor must be associated with a  Ticket which can be requested in the registration portal.\n\n\n\n\n\n\nFor more information: https://www.aiasnet.it/AIAS2026/index.html\nFor the Cluster\, Secretary General Prof. Ing. Giampiero Mastinu will participate.
URL:https://clusterlombardomobilita.it/en/event/55th-aias-national-conference-politecnico-di-milano-bovisa/
CATEGORIES:Event attended by CLM,WG Business Development
ATTACH;FMTTYPE=image/jpeg:https://clusterlombardomobilita.it/wp-content/uploads/2026/03/Immagine-2026-03-11-084429.jpg
END:VEVENT
BEGIN:VEVENT
DTSTART;VALUE=DATE:20260907
DTEND;VALUE=DATE:20260911
DTSTAMP:20260421T183055
CREATED:20260302T105201Z
LAST-MODIFIED:20260302T105201Z
UID:10000616-1788739200-1789084799@clusterlombardomobilita.it
SUMMARY:XXVII National Congress of the Italian Association of Theoretical and Applied Mechanics (AIMETA) - Brescia\, Italy
DESCRIPTION:The Lombard Mobility Cluster is pleased to sponsor the XXVII National Congress of the Italian Association of Theoretical and Applied Mechanics (AIMETA).\n\nAIMETA\, founded in 1966\, brings together devotees of Mechanics in its various theoretical\, experimental\, technical\, and applied directions.\n\nThe XXVII biennial AIMETA congress\, organized by our associate University of Brescia\, will open Sept. 7 at Teatro Grande and continue at Palazzo Calini ai Fiumi with scientific sessions until Sept. 10\, 2026.  The event usually gathers about 350 participants\, many of them academics from various scientific-disciplinary fields\, and this year aims to engage participants from Companies\, Institutions\, Universities and Bodies not only in terms of Mechanics\, but also in terms of the History and Culture of the City of Brescia.\nIn this context\, the Lombard Mobility Cluster wants to foster the meeting between the excellence of the area’s mechanical industry and Italian academic specialists in mechanics\, because mechanics has been and is for the Lombard (and Brescian in particular) territory of peculiar economic\, historical and cultural relevance.\n\nFor these reasons\, we intend to spread the invitation to our members who will be able to:\n\n\n\nAttend the congress as auditors;\nPresent a paper with scientific content (Field Lesson) as speakers in the parallel sessions by submitting an application by May 1\, 2026;\nSponsor the event by applying by March 15\, 2026.\n\n\n\nFor scientific project submission or conference sponsorship\, please contact:\nProf. Alberto Salvadori (Congress contact person for the University of Brescia): alberto.salvadori@unibs.it\nOr:\nEng. Francesco Braga (CLM contact person) francesco.braga@clusterlombardomobilita.it\n\nFor more information and to register as auditors log on to: https://brescia2026.aimeta.it/
URL:https://clusterlombardomobilita.it/en/event/xxvii-national-congress-of-the-italian-association-of-theoretical-and-applied-mechanics-aimeta-brescia-italy/
CATEGORIES:Event attended by CLM,WG Business Development
ATTACH;FMTTYPE=image/png:https://clusterlombardomobilita.it/wp-content/uploads/2026/03/LOGO-AIMETA.png
END:VEVENT
BEGIN:VEVENT
DTSTART;VALUE=DATE:20260909
DTEND;VALUE=DATE:20260912
DTSTAMP:20260421T183055
CREATED:20260323T092116Z
LAST-MODIFIED:20260325T072449Z
UID:10000630-1788912000-1789171199@clusterlombardomobilita.it
SUMMARY:41st AIM National Conference - The future between research and innovation
DESCRIPTION:From September 9 to 11\, the 41st National Metallurgy Conference will be held in Brescia\, Italy: a special edition\, organized by the Italian Metallurgy Association in collaboration with our member University of Brescia\, which coincides with the 80th anniversary of the founding of AIM and is intended to celebrate the history and future of Italian metallurgy. Alongside the scientific sessions\, there will be an exhibition area dedicated to companies\, which will allow participants to explore innovations in the industry. Various sponsorship formulas are\, in addition\, available to emphasize their visibility.   \nIt is still possible to propose abstracts (deadline: March 31\, 2026). \nFor more information: CALL FOR PAPERS | SPONSORSHIP | 41 BRESCIA 2026 \nThe Cluster will be present with WG Coordinator ing. Francesco Braga.
URL:https://clusterlombardomobilita.it/en/event/41st-aim-national-conference-the-future-between-research-and-innovation/
CATEGORIES:Event attended by CLM,WG Materials/Lighting/Motorsport
ATTACH;FMTTYPE=image/jpeg:https://clusterlombardomobilita.it/wp-content/uploads/2026/03/41_AIM_IMG_SOCIAL_002-scaled.jpg
END:VEVENT
BEGIN:VEVENT
DTSTART;VALUE=DATE:20260909
DTEND;VALUE=DATE:20260912
DTSTAMP:20260421T183055
CREATED:20260327T075733Z
LAST-MODIFIED:20260327T075733Z
UID:10000635-1788912000-1789171199@clusterlombardomobilita.it
SUMMARY:National PhD in Space Science and Technology: 2026 PhD Days
DESCRIPTION:National PhD in Space Science and Technology: 2026 PhD Days Sept. 9-11 at the University of Brescia\, which is organizing the event (which in addition to space also embraces other topics including mobility) together with the University of Trento and INFN Pavia. The contact person at the University of Brescia is Prof. Germano Bonomi.  \nOn Sept. 10\, doctoral students will be hosted by Confindustria Brescia. \nFor the Lombard Mobility Cluster\, WG Coordinator ing. Francesco Braga will participate.
URL:https://clusterlombardomobilita.it/en/event/national-phd-in-space-science-and-technology-2026-phd-days/
CATEGORIES:Event attended by CLM,WG Business Development
ATTACH;FMTTYPE=image/jpeg:https://clusterlombardomobilita.it/wp-content/uploads/2026/03/Immagine-2026-03-27-085144.jpg
END:VEVENT
BEGIN:VEVENT
DTSTART;VALUE=DATE:20261004
DTEND;VALUE=DATE:20261005
DTSTAMP:20260421T183055
CREATED:20260306T090920Z
LAST-MODIFIED:20260306T090920Z
UID:10000621-1791072000-1791158399@clusterlombardomobilita.it
SUMMARY:50 years of FAI Brescia and East Lombardy
DESCRIPTION:50th FAI Brescia and East Lombardy Celebration. Invitation-only event. For the Cluster\, President Dr. Saverio Gaboardi will participate.
URL:https://clusterlombardomobilita.it/en/event/50-years-of-fai-brescia-and-east-lombardy/
CATEGORIES:Event attended by CLM,WG Business Development
ATTACH;FMTTYPE=image/jpeg:https://clusterlombardomobilita.it/wp-content/uploads/2026/03/Immagine-2026-03-03-154532.jpg
END:VEVENT
END:VCALENDAR