BEGIN:VCALENDAR
VERSION:2.0
PRODID:-//Cluster Lombardo della Mobilità - ECPv6.15.17//NONSGML v1.0//EN
CALSCALE:GREGORIAN
METHOD:PUBLISH
X-ORIGINAL-URL:https://clusterlombardomobilita.it/en/
X-WR-CALDESC:Events for Cluster Lombardo della Mobilità
REFRESH-INTERVAL;VALUE=DURATION:PT1H
X-Robots-Tag:noindex
X-PUBLISHED-TTL:PT1H
BEGIN:VTIMEZONE
TZID:UTC
BEGIN:STANDARD
TZOFFSETFROM:+0000
TZOFFSETTO:+0000
TZNAME:UTC
DTSTART:20240101T000000
END:STANDARD
END:VTIMEZONE
BEGIN:VEVENT
DTSTART;TZID=UTC:20250708T093000
DTEND;TZID=UTC:20250708T130000
DTSTAMP:20260424T120513
CREATED:20250625T093501Z
LAST-MODIFIED:20250908T143504Z
UID:10000482-1751967000-1751979600@clusterlombardomobilita.it
SUMMARY:Fifth leg of the road-show “Innovation and the Market: The Automotive Ecosystem from the National Panorama to Local Insights” - TEA Observatory
DESCRIPTION:Invitation-only event. For the Cluster\, President Dr. Saverio Gaboardi will participate. \nFifth stage of the road show “Innovation and Market: The Automotive Ecosystem from the National Panorama to Local Insights\,” sponsored by the Observatory on the Transformations of the Italian Automotive Ecosystem(www.osservatoriotea.it)\, to be held on Tuesday\, July 8\, at the Lombardy Region Palace. \nThe conference\, “The Automotive Ecosystem between Innovation and the Market\,” will focus on the competitiveness of the Italian automotive supply chain and the Lombardy region in particular\, delving into opportunities for technological innovation and the formation of advanced skills needed to meet the challenges of the current transition. \nIt will be a moment of transversal confrontation that will see the participation of representatives of the national\, regional\, and local political world; as well as business executives\, and heads of the key associations of the automotive sector. The main objective will be to bring together these personalities to analyze and deepen the peculiarities of a moment that is as delicate as it is decisive for one of the most important industrial sectors of the country and the Veneto region.
URL:https://clusterlombardomobilita.it/en/event/fifth-leg-of-the-road-show-innovation-and-the-market-the-automotive-ecosystem-from-the-national-panorama-to-local-insights-tea-observatory/
CATEGORIES:Event attended by CLM,WG Electric,WG Renewable Fuels
ATTACH;FMTTYPE=application/pdf:https://clusterlombardomobilita.it/wp-content/uploads/2025/06/Programma-OTEA-Milano-8_07.pdf
END:VEVENT
END:VCALENDAR