BEGIN:VCALENDAR
VERSION:2.0
PRODID:-//Cluster Lombardo della Mobilità - ECPv6.15.17//NONSGML v1.0//EN
CALSCALE:GREGORIAN
METHOD:PUBLISH
X-ORIGINAL-URL:https://clusterlombardomobilita.it/en/
X-WR-CALDESC:Events for Cluster Lombardo della Mobilità
REFRESH-INTERVAL;VALUE=DURATION:PT1H
X-Robots-Tag:noindex
X-PUBLISHED-TTL:PT1H
BEGIN:VTIMEZONE
TZID:UTC
BEGIN:STANDARD
TZOFFSETFROM:+0000
TZOFFSETTO:+0000
TZNAME:UTC
DTSTART:20240101T000000
END:STANDARD
END:VTIMEZONE
BEGIN:VEVENT
DTSTART;TZID=UTC:20250116T160000
DTEND;TZID=UTC:20250116T170000
DTSTAMP:20260421T185520
CREATED:20241218T094159Z
LAST-MODIFIED:20241220T104017Z
UID:10000326-1737043200-1737046800@clusterlombardomobilita.it
SUMMARY:WG RENEWABLE FUELS
DESCRIPTION:The Lombardy Mobility Cluster organizes on Thursday\, January 16\, 2025 from 4 to 5 p.m.\, as part of the “Environmental Sustainability” thematic table\, the RENEWABLE FUELS Working Group to take stock of the regulatory framework of the mobility sector\, also in light of the recent Monza Declaration and the possible evolution of ARA – Automotive Regions Alliance. \nThe agenda is as follows: \n16:00 State of the Art (Monza ARA-Automotive Regions Alliance statement and proposals) Armando DE CRINITO (Director General DG Economic Development REGIONE LOMBARDIA) \nXavier GABOARDI (CLM President) \n16:20 Next steps of the Renewable Fuels Notebook Update.\nPiersandro TREVISAN (Development Advisor CLM) \n16:25 Debate on next actions and priorities\nTable round among Renewable Fuels Notebook working group participants 16:50 Conclusions \nXavier GABOARDI \nParticipation is restricted to Notebook partners.
URL:https://clusterlombardomobilita.it/en/event/working-group-renewable-fuels/
CATEGORIES:Event organized by CLM,WG Renewable Fuels
ATTACH;FMTTYPE=image/png:https://clusterlombardomobilita.it/wp-content/uploads/2023/09/logo_CLM_RGB.png
END:VEVENT
END:VCALENDAR