BEGIN:VCALENDAR
VERSION:2.0
PRODID:-//Cluster Lombardo della Mobilità - ECPv6.15.17//NONSGML v1.0//EN
CALSCALE:GREGORIAN
METHOD:PUBLISH
X-ORIGINAL-URL:https://clusterlombardomobilita.it/en/
X-WR-CALDESC:Events for Cluster Lombardo della Mobilità
REFRESH-INTERVAL;VALUE=DURATION:PT1H
X-Robots-Tag:noindex
X-PUBLISHED-TTL:PT1H
BEGIN:VTIMEZONE
TZID:UTC
BEGIN:STANDARD
TZOFFSETFROM:+0000
TZOFFSETTO:+0000
TZNAME:UTC
DTSTART:20230101T000000
END:STANDARD
END:VTIMEZONE
BEGIN:VEVENT
DTSTART;VALUE=DATE:20241106
DTEND;VALUE=DATE:20241108
DTSTAMP:20260421T183511
CREATED:20240717T074659Z
LAST-MODIFIED:20241118T163818Z
UID:10000207-1730851200-1731023999@clusterlombardomobilita.it
SUMMARY:European E- fuels conference - Hamburg\, Germany
DESCRIPTION:Building on the success of the 2023 edition\, which attracted more than 170 high-level participants to Düsseldorf\, we are pleased to return to organize the ACI European E-Fuels conference on November 6 and 7\, 2024 in Hamburg. \nThe 2024 edition of the conference will once again bring together key stakeholders from the renewable energy\, fuel\, power\, and oil and gas industries: including aviation and marine companies\, automakers\, electronic fuel manufacturers\, technology providers\, consultants\, and policymakers. \nHigh-level speakers will present technical aspects of the e-fuel market and talk about the latest challenges and opportunities that are affecting the industry. They will discuss topics requested by industry experts\, touching on aspects such as e-fuel in the aviation\, maritime and automotive sectors\, e-fuel production costs and the latest technological advances\, among others. \nIn-person event\, more information at: https://www.wplgroup.com/aci/event/european-e-fuels-conference/
URL:https://clusterlombardomobilita.it/en/event/european-e-fuels-conference-hamburg-germany/
CATEGORIES:Event attended by CLM,Interesting event for CLM,WG Renewable Fuels
ATTACH;FMTTYPE=image/jpeg:https://clusterlombardomobilita.it/wp-content/uploads/2024/07/Immagine-2024-07-17-092815.jpg
END:VEVENT
END:VCALENDAR