BEGIN:VCALENDAR
VERSION:2.0
PRODID:-//Cluster Lombardo della Mobilità - ECPv6.15.17//NONSGML v1.0//EN
CALSCALE:GREGORIAN
METHOD:PUBLISH
X-ORIGINAL-URL:https://clusterlombardomobilita.it/en/
X-WR-CALDESC:Events for Cluster Lombardo della Mobilità
REFRESH-INTERVAL;VALUE=DURATION:PT1H
X-Robots-Tag:noindex
X-PUBLISHED-TTL:PT1H
BEGIN:VTIMEZONE
TZID:UTC
BEGIN:STANDARD
TZOFFSETFROM:+0000
TZOFFSETTO:+0000
TZNAME:UTC
DTSTART:20230101T000000
END:STANDARD
END:VTIMEZONE
BEGIN:VEVENT
DTSTART;TZID=UTC:20240918T080000
DTEND;TZID=UTC:20240919T170000
DTSTAMP:20260424T053139
CREATED:20240408T172141Z
LAST-MODIFIED:20240906T090720Z
UID:10000143-1726646400-1726765200@clusterlombardomobilita.it
SUMMARY:NEXT GENERATION MOBILITY: Cities Belong To The New Generation - Turin and live streaming
DESCRIPTION:The Lombardy Mobility Cluster will sponsor the third edition of the Next Generation Mobility event\, the mobility supply chain conference\, to be held in Turin – Centro Congressi Unione Industriali.\nTwo days of conferences and meetings where companies\, start-ups\, universities and institutions will have the opportunity to discuss innovation\, business opportunities\, compliance and industry reforms.\nThe title Cities Belong To The New Generation was chosen for the 2024 edition of Next Generation Mobility\, because it is also from mobility that decisions are made on how to design the city of the future.\nNot only that\, it is through the awareness of the next generation that the fate of our planet will be decided.\nThe process of decarbonization of mobility is the primary goal\, which passes through both technological innovation and the creation of the prerequisites for a new approach and education of mobility.\nIn this regard\, the challenges facing new generations will be manifold.\nThe UN’s 2050 estimates speak for themselves: the world’s population will reach almost 10bn\, more than 2/3 of the world’s population will live in cities\, 1.6bn inhabitants will be over 65.\nBased on these predictions\, how will mobility have to evolve?\nWhat new needs will it have to respond to?\nThese are macro changes that require careful analysis and an action plan.\nWith this in mind\, NGM24 aims to be a moment of reflection and confrontation to lay the groundwork for the next scenarios\, in which sustainable mobility\, inclusion and openness to all citizens will be at the center of the debate This year the event will host the two important appointments: the 5th National Conference on Urban Air Mobility and Advanced Air Mobility and the 2nd National Conference on Hydrogen and e-fuels.\nAmong the keynote speeches\, we highlight the one by our Eng. Piersandro Trevisan entitled : “The other half of the car: the unsuspected future of internal combustion for a global perspective\,”scheduled for Thursday\, Sept. 19between 10 a.m. and 1 p.m. Here are details on how to stay updated on the event.             → Website: https://www.ngmobility.it/\n→ Scheduled conferences:https://www.ngmobility.it/conferenza-nazionale-uam-aam-2024/https://www.ngmobility.it/conferenzaidrogeno-2024/→Social Network: Linkedin:https://www.linkedin.com/showcase/next-generation-mobility/ Event Hashtags: #NextGenMobility24 #NGM24 Conference Hashtags: #MaaS #NextGenerationEU #electricmobility #micromobility #UAM #smartmobility #urbanlogistics #efuels #hydrogen → MEDIA Page: https://www.ngmobility.it/area-media-2/ to download logo\, teaser videos\, images\, banners\, press releases.
URL:https://clusterlombardomobilita.it/en/event/next-generation-mobility/
CATEGORIES:Event attended by CLM,WG Electric,WG Hydrogen,WG Methane,WG Renewable Fuels
ATTACH;FMTTYPE=image/jpeg:https://clusterlombardomobilita.it/wp-content/uploads/2024/04/clm.jpg
END:VEVENT
END:VCALENDAR