BEGIN:VCALENDAR
VERSION:2.0
PRODID:-//Cluster Lombardo della Mobilità - ECPv6.15.17//NONSGML v1.0//EN
CALSCALE:GREGORIAN
METHOD:PUBLISH
X-WR-CALNAME:Cluster Lombardo della Mobilità
X-ORIGINAL-URL:https://clusterlombardomobilita.it/en/
X-WR-CALDESC:Events for Cluster Lombardo della Mobilità
REFRESH-INTERVAL;VALUE=DURATION:PT1H
X-Robots-Tag:noindex
X-PUBLISHED-TTL:PT1H
BEGIN:VTIMEZONE
TZID:UTC
BEGIN:STANDARD
TZOFFSETFROM:+0000
TZOFFSETTO:+0000
TZNAME:UTC
DTSTART:20230101T000000
END:STANDARD
END:VTIMEZONE
BEGIN:VEVENT
DTSTART;TZID=UTC:20241209T160000
DTEND;TZID=UTC:20241209T203000
DTSTAMP:20260421T154200
CREATED:20241127T143129Z
LAST-MODIFIED:20241127T143129Z
UID:10000305-1733760000-1733776200@clusterlombardomobilita.it
SUMMARY:Roundtable - Central and Eastern European automotive challenges - ACEA FUTURE DRIVEN EXPERIENCE.
DESCRIPTION:The Lombardy Mobility Cluster is participating with its Secretary General Prof. Ing. Giampiero Mastinu in the Round Table “Central and Eastern European automotive challenges” organized by ACEA\, the European Automobile Manufacturers’ Association (which brings together the 15 leading European manufacturers of cars\, trucks\, vans and buses)\, where experts will discuss the main challenges and opportunities facing the automotive sector in Central and Eastern Europe. \nThe event\, part of the #FutureDriven Experience\, a time to connect with industry and policy leaders to explore the fascinating future of the automotive world at the start of a new EU legislative cycle\, is part of a panel of more than 30 events\, from panel discussions to hands-on workshops and is the ideal venue for in-depth conversations about the most pressing issues facing the automotive industry today (such as decarbonization pathways\, the challenges of increasing electric battery production in the EU\, the future of automated vehicles\, and the impact of this transformation on jobs and skills). Event open by registration: for more information visit SITE. \n 
URL:https://clusterlombardomobilita.it/en/event/roundtable-central-and-eastern-european-automotive-challenges-acea-future-driven-experience/
CATEGORIES:Event attended by CLM,WG Renewable Fuels
ATTACH;FMTTYPE=image/jpeg:https://clusterlombardomobilita.it/wp-content/uploads/2024/11/Immagine-2024-11-27-152947.jpg
END:VEVENT
END:VCALENDAR