BEGIN:VCALENDAR
VERSION:2.0
PRODID:-//Cluster Lombardo della Mobilità - ECPv6.15.17//NONSGML v1.0//EN
CALSCALE:GREGORIAN
METHOD:PUBLISH
X-WR-CALNAME:Cluster Lombardo della Mobilità
X-ORIGINAL-URL:https://clusterlombardomobilita.it/en/
X-WR-CALDESC:Events for Cluster Lombardo della Mobilità
REFRESH-INTERVAL;VALUE=DURATION:PT1H
X-Robots-Tag:noindex
X-PUBLISHED-TTL:PT1H
BEGIN:VTIMEZONE
TZID:UTC
BEGIN:STANDARD
TZOFFSETFROM:+0000
TZOFFSETTO:+0000
TZNAME:UTC
DTSTART:20240101T000000
END:STANDARD
END:VTIMEZONE
BEGIN:VEVENT
DTSTART;TZID=UTC:20250626T100000
DTEND;TZID=UTC:20250626T130000
DTSTAMP:20260422T070201
CREATED:20250610T072120Z
LAST-MODIFIED:20250610T072120Z
UID:10000467-1750932000-1750942800@clusterlombardomobilita.it
SUMMARY:Conference “The adequacy of resources for financing local public transport: the context and proposals” - ANAV\, Rome
DESCRIPTION:A moment of discussion among institutions\, sector operators and social partners on the resources needed to ensure an efficient\, sustainable public transport system that meets the needs of citizens and businesses. \nThe conference will open with the presentation of a study by the University “La Sapienza” of Rome\, which will propose a methodological analysis to identify the optimal level of LPT funding\, with particular attention to standard requirements and the proper allocation of available resources. \nInvited event: for the Cluster\, Development Advisor ing. Piersandro Trevisan will participate. \n 
URL:https://clusterlombardomobilita.it/en/event/conference-the-adequacy-of-resources-for-financing-local-public-transport-the-context-and-proposals-anav-rome/
CATEGORIES:Event attended by CLM,WG Local Public Transportation
ATTACH;FMTTYPE=application/pdf:https://clusterlombardomobilita.it/wp-content/uploads/2025/06/programma-26062025.pdf
END:VEVENT
END:VCALENDAR