BEGIN:VCALENDAR
VERSION:2.0
PRODID:-//Cluster Lombardo della Mobilità - ECPv6.15.17//NONSGML v1.0//EN
CALSCALE:GREGORIAN
METHOD:PUBLISH
X-ORIGINAL-URL:https://clusterlombardomobilita.it/en/
X-WR-CALDESC:Events for Cluster Lombardo della Mobilità
REFRESH-INTERVAL;VALUE=DURATION:PT1H
X-Robots-Tag:noindex
X-PUBLISHED-TTL:PT1H
BEGIN:VTIMEZONE
TZID:UTC
BEGIN:STANDARD
TZOFFSETFROM:+0000
TZOFFSETTO:+0000
TZNAME:UTC
DTSTART:20230101T000000
END:STANDARD
END:VTIMEZONE
BEGIN:VEVENT
DTSTART;VALUE=DATE:20241015
DTEND;VALUE=DATE:20241205
DTSTAMP:20260421T101631
CREATED:20241014T151506Z
LAST-MODIFIED:20241210T080333Z
UID:10000260-1728950400-1733356799@clusterlombardomobilita.it
SUMMARY:Cycle of in-person meetings dedicated to SUSTAINABLE LEADERSHIP - Catholic University of the Sacred Heart in Brescia
DESCRIPTION:We gladly disseminate the interesting series of in-person meetings dedicated to SUSTAINABLE LEADERSHIP\, which begins on Tuesday\, October 15\, 12:30 p.m.\, at the Hall of Glory\, Via Trieste\, 17 at the Catholic University of the Sacred Heart and will continue in October\, November and December according to the program reported.\n\nIt consists of ten lectures open to the public to learn about case histories of the sector through the testimonies of Presidents\, Directors\, C-levels of Banks and Companies and CEOs who have contributed to rewriting the way of sustainability in Italy. \nThe initiative is promoted by the Faculty of Political and Social Sciences of the Catholic University of the Sacred Heart\, Master’s Degree GEOR – Labor Management and Communication For Organizations and OpTer – Observatory For the Territory. \n\n\nThe meetings are in-person\, open to the public\, without registration.
URL:https://clusterlombardomobilita.it/en/event/cycle-of-in-person-meetings-dedicated-to-sustainable-leadership-catholic-university-of-the-sacred-heart-in-brescia/
CATEGORIES:Event attended by CLM,WG Skills
ATTACH;FMTTYPE=application/pdf:https://clusterlombardomobilita.it/wp-content/uploads/2024/10/Locandina-Testimonianze-di-Leadership-sostenibile-ott_dic24_def.pdf
END:VEVENT
BEGIN:VEVENT
DTSTART;TZID=UTC:20241204T090000
DTEND;TZID=UTC:20241204T150000
DTSTAMP:20260421T101631
CREATED:20241127T151659Z
LAST-MODIFIED:20241127T151659Z
UID:10000306-1733302800-1733324400@clusterlombardomobilita.it
SUMMARY:ERTRAC GENERAL ASSEMBLY - Brussels
DESCRIPTION:The European Road Transport Research Advisory Council (ERTRAC) is the European Technology Platform (ETP) for road transport. It will hold its General Assembly on December 4\, and our Secretary General Prof. Ing. Giampiero Mastinu will attend as a special guest. \nERTRAC is recognized and supported by the European Commission.
URL:https://clusterlombardomobilita.it/en/event/ertrac-general-assembly-brussels/
ATTACH;FMTTYPE=image/jpeg:https://clusterlombardomobilita.it/wp-content/uploads/2024/11/Immagine-2024-11-27-162014.jpg
END:VEVENT
BEGIN:VEVENT
DTSTART;TZID=UTC:20241204T173000
DTEND;TZID=UTC:20241204T210000
DTSTAMP:20260421T101631
CREATED:20241127T140502Z
LAST-MODIFIED:20241127T140502Z
UID:10000303-1733333400-1733346000@clusterlombardomobilita.it
SUMMARY:CLEPA INNOVATION AWARDS 2024 - Autoworld\, Brussels
DESCRIPTION:The Lombardy Mobility Cluster with its Secretary General Prof. Ing. Giampiero Mastinu will be present at the CLEPA INNOVATION AWARDS 2024 (the prestigious annual award ceremony and reception of CLEPA\, the European Automotive Suppliers Association)\, to be held at Autoworld in Brussels on December 4. \nSuccessful mobility transformation is not possible without the contribution of automotive suppliers. In fact\, the mobility technology industry is one of the most innovative in the EU\, with €30 billion invested in R&D each year. The CLEPA Innovation Awards proudly recognize and celebrate the automotive supply industry’s groundbreaking innovations that are driving the green and digital transition in Europe.   \nPROGRAM: \n17:15: Registration and welcome drink 18:00: Panel Discussion | #DrivingInnovation: Changing gears for a competitive future Signe Ratso\, Deputy Director General\, DG Research and Innovation\, European Commission MEP Andrea Wechsler\, EPP – European Parliament MEP Raúl de la Hoz Quintano\, EPP – European Parliament Elmar Pritsch\, SDV Global Leader – Deloitte Matthias Zink\, CEO Powertrain & Chassis at Schaeffler and CLEPA President\n(Moderator: Benjamin Krieger\, Secretary General CLEPA) 19:00: Awards Ceremony\nBest Digital Innovators\nBest Green Innovators\nTop SME Innovators – Digital and Green 20:00: 65th Anniversary Reception – Networking Dinner \nInvitation-only event.
URL:https://clusterlombardomobilita.it/en/event/clepa-innovation-awards-2024-autoworld-brussels/
CATEGORIES:Event attended by CLM,WG Business Development
ATTACH;FMTTYPE=image/webp:https://clusterlombardomobilita.it/wp-content/uploads/2024/11/IAWs-2024-main-image.webp
END:VEVENT
END:VCALENDAR