BEGIN:VCALENDAR
VERSION:2.0
PRODID:-//Cluster Lombardo della Mobilità - ECPv6.15.17//NONSGML v1.0//EN
CALSCALE:GREGORIAN
METHOD:PUBLISH
X-ORIGINAL-URL:https://clusterlombardomobilita.it/en/
X-WR-CALDESC:Events for Cluster Lombardo della Mobilità
REFRESH-INTERVAL;VALUE=DURATION:PT1H
X-Robots-Tag:noindex
X-PUBLISHED-TTL:PT1H
BEGIN:VTIMEZONE
TZID:UTC
BEGIN:STANDARD
TZOFFSETFROM:+0000
TZOFFSETTO:+0000
TZNAME:UTC
DTSTART:20230101T000000
END:STANDARD
END:VTIMEZONE
BEGIN:VEVENT
DTSTART;VALUE=DATE:20241015
DTEND;VALUE=DATE:20241205
DTSTAMP:20260426T040808
CREATED:20241014T151506Z
LAST-MODIFIED:20241210T080333Z
UID:10000260-1728950400-1733356799@clusterlombardomobilita.it
SUMMARY:Cycle of in-person meetings dedicated to SUSTAINABLE LEADERSHIP - Catholic University of the Sacred Heart in Brescia
DESCRIPTION:We gladly disseminate the interesting series of in-person meetings dedicated to SUSTAINABLE LEADERSHIP\, which begins on Tuesday\, October 15\, 12:30 p.m.\, at the Hall of Glory\, Via Trieste\, 17 at the Catholic University of the Sacred Heart and will continue in October\, November and December according to the program reported.\n\nIt consists of ten lectures open to the public to learn about case histories of the sector through the testimonies of Presidents\, Directors\, C-levels of Banks and Companies and CEOs who have contributed to rewriting the way of sustainability in Italy. \nThe initiative is promoted by the Faculty of Political and Social Sciences of the Catholic University of the Sacred Heart\, Master’s Degree GEOR – Labor Management and Communication For Organizations and OpTer – Observatory For the Territory. \n\n\nThe meetings are in-person\, open to the public\, without registration.
URL:https://clusterlombardomobilita.it/en/event/cycle-of-in-person-meetings-dedicated-to-sustainable-leadership-catholic-university-of-the-sacred-heart-in-brescia/
CATEGORIES:Event attended by CLM,WG Skills
ATTACH;FMTTYPE=application/pdf:https://clusterlombardomobilita.it/wp-content/uploads/2024/10/Locandina-Testimonianze-di-Leadership-sostenibile-ott_dic24_def.pdf
END:VEVENT
BEGIN:VEVENT
DTSTART;TZID=UTC:20241031T160000
DTEND;TZID=UTC:20241031T170000
DTSTAMP:20260426T040808
CREATED:20241011T102711Z
LAST-MODIFIED:20241028T100559Z
UID:10000254-1730390400-1730394000@clusterlombardomobilita.it
SUMMARY:WG SKILLS FOR TRANSITION
DESCRIPTION:The Lombardy Mobility Cluster is organizing THURSDAY\, OCTOBER 31\, 2024 from 4:00 p.m. to 5:00 p.m.\, under the Business Development Thematic Group\, an online meeting of the Working Group “Skills” with the following agenda: 4:00 p.m. Opening of work and working group mandate update\nSaverio GABOARDI (CLM President) 16.05 Update Skills for Future Automotive document\nCinzia POLLIO (ISFOR Director) 16.15 Lombardy Region’s “Competencies and Innova” call\nPiersandro TREVISAN (Development Advisor CLM) 16.20 Participant input:\nCurrent initiatives/projects (“4+2” experimentation in Lombardy).\nProposals for relevant regional departments. 16.45 Miscellaneous. 17:00 Conclusions and proposals\nSaverio GABOARDI (President CLM) Participation is open to all members\, starting with those adhering to the Skills WG.\nTo register for the WG\, it is necessary to fill out BY NOON ON 31/10/24 the form available at: \nhttps://forms.gle/JimrQd3FjxtoUqe77 \nThe link for the link will be shared with members after registration closes. \nMembers-only meeting.
URL:https://clusterlombardomobilita.it/en/event/wg-skills-for-transition/
CATEGORIES:WG Skills
ATTACH;FMTTYPE=image/jpeg:https://clusterlombardomobilita.it/wp-content/uploads/2024/02/giovani-e-lavoro.jpg
END:VEVENT
END:VCALENDAR