BEGIN:VCALENDAR
VERSION:2.0
PRODID:-//Cluster Lombardo della Mobilità - ECPv6.15.17//NONSGML v1.0//EN
CALSCALE:GREGORIAN
METHOD:PUBLISH
X-ORIGINAL-URL:https://clusterlombardomobilita.it/en/
X-WR-CALDESC:Events for Cluster Lombardo della Mobilità
REFRESH-INTERVAL;VALUE=DURATION:PT1H
X-Robots-Tag:noindex
X-PUBLISHED-TTL:PT1H
BEGIN:VTIMEZONE
TZID:UTC
BEGIN:STANDARD
TZOFFSETFROM:+0000
TZOFFSETTO:+0000
TZNAME:UTC
DTSTART:20230101T000000
END:STANDARD
END:VTIMEZONE
BEGIN:VEVENT
DTSTART;VALUE=DATE:20241015
DTEND;VALUE=DATE:20241205
DTSTAMP:20260426T010731
CREATED:20241014T151506Z
LAST-MODIFIED:20241210T080333Z
UID:10000260-1728950400-1733356799@clusterlombardomobilita.it
SUMMARY:Cycle of in-person meetings dedicated to SUSTAINABLE LEADERSHIP - Catholic University of the Sacred Heart in Brescia
DESCRIPTION:We gladly disseminate the interesting series of in-person meetings dedicated to SUSTAINABLE LEADERSHIP\, which begins on Tuesday\, October 15\, 12:30 p.m.\, at the Hall of Glory\, Via Trieste\, 17 at the Catholic University of the Sacred Heart and will continue in October\, November and December according to the program reported.\n\nIt consists of ten lectures open to the public to learn about case histories of the sector through the testimonies of Presidents\, Directors\, C-levels of Banks and Companies and CEOs who have contributed to rewriting the way of sustainability in Italy. \nThe initiative is promoted by the Faculty of Political and Social Sciences of the Catholic University of the Sacred Heart\, Master’s Degree GEOR – Labor Management and Communication For Organizations and OpTer – Observatory For the Territory. \n\n\nThe meetings are in-person\, open to the public\, without registration.
URL:https://clusterlombardomobilita.it/en/event/cycle-of-in-person-meetings-dedicated-to-sustainable-leadership-catholic-university-of-the-sacred-heart-in-brescia/
CATEGORIES:Event attended by CLM,WG Skills
ATTACH;FMTTYPE=application/pdf:https://clusterlombardomobilita.it/wp-content/uploads/2024/10/Locandina-Testimonianze-di-Leadership-sostenibile-ott_dic24_def.pdf
END:VEVENT
BEGIN:VEVENT
DTSTART;TZID=UTC:20241023T153000
DTEND;TZID=UTC:20241023T180000
DTSTAMP:20260426T010731
CREATED:20241011T101150Z
LAST-MODIFIED:20241011T102407Z
UID:10000251-1729697400-1729706400@clusterlombardomobilita.it
SUMMARY:THE TALENT OF PEOPLE IS THE RICHNESS OF COMPANIES - ISFOR Higher Education Course
DESCRIPTION:The Cluster is pleased to publicize the event “THE TALENT OF PEOPLE IS THE RICHNESS OF COMPANIES\,” part of ISFOR’s Higher Education Pathway\, which will be held in attendance at the headquarters at 30 Pietro Nenni Street in Brescia. \nPROGRAM: \nGreetings and introduction:   \nElisa Torchiani\, president of AIB Foundation\nRoberto Zini\, vice president of Confindustria Brescia – Industrial Relations and Welfare \nThematic panels:\n  1 – Management of People in the Company \nMauro Ghilardi\, Chief HR Officer A2A\nCristina Recenti\, partner Project Group\nFabio Giommi\, president of AIM – Italian Mindfulness Association and director of Nous – School of Specialization (MUR) \n2 – Leadership-oriented coaching\nIrene Morrione\, CEO Into The Change\nSilvia Pinti\, Owner-Human Resources Manager Pinti Inox S.p.A. \n3 – Entrepreneurial longevity and leadership development \nIrene Morrione\, CEO Into the Change\nPatrizia Misciattelli\, Chair and CEO Family Strategy\nEmanuele Giangreco Biancheri\, partner Family Strategy \nModerator  Cinzia Pollio\, director of ISFOR and AIB Foundation. Conclusions and appetizer. In-person event\, free admission upon registration at: link_registration. For more information contact Anna Maffina\, Head of Higher Education ISFOR a.maffina@isforbrescia.it – 030.2284532 President Dr. Saverio Gaboardi will be present for the cluster.
URL:https://clusterlombardomobilita.it/en/event/the-talent-of-people-is-the-richness-of-companies-higher-education-pathway/
CATEGORIES:WG Skills
ATTACH;FMTTYPE=image/png:https://clusterlombardomobilita.it/wp-content/uploads/2024/10/intestazione-IL-TALENTO-DELLE-PERSONE-E-LA-RICCHEZZA-DELLE-AZIENDE.png
END:VEVENT
BEGIN:VEVENT
DTSTART;TZID=UTC:20241023T160000
DTEND;TZID=UTC:20241023T173000
DTSTAMP:20260426T010731
CREATED:20241009T082740Z
LAST-MODIFIED:20241021T082228Z
UID:10000244-1729699200-1729704600@clusterlombardomobilita.it
SUMMARY:WG DIGITAL SYSTEMS
DESCRIPTION:The Lombard Mobility Cluster (CLM) is organizing an online meeting of the Digital Systems WG (Thematic Group “Business Development”) on Wednesday\, October 23\, from 4:00 to 5:30 p.m.\, dedicated to the development prospects of the topic. \nThe agenda is as follows: \n16:00 Introduction \nXavier GABOARDI (CLM). \n16:05 Update on technologies and perspectives \nFrancesco CADINI (Politecnico di Milano). \n16:15 Framework in Lombardy Region \nPiersandro TREVISAN (CLM). \n16:20 Presentation of case studies \nAuto-Twin: Autonomous Digital Twins to Accelerate Circularity in Industrial Supply Chains – Andrea MATTA (Politecnico di Milano). Call for proposals “Smart Mobility Data Driven” suburban sphere – Francesco BIANCHI. Call for proposals “Smart Mobility Data Driven” urban sphere – Marco LIBRETTI (Brescia Mobility). \n16:50 “Smart Vehicular Networks and Road Infrastructure”   \nRenato LO CIGNO and Lorenzo GHIRO (University of Brescia) \n17:10 Debate among participants and project development \nPresentation of initiatives\, project ideas and news for companies and territorial and trade associations. \n17:25 Next steps and actions to be taken \nFrancesco CADINI and Piersandro TREVISAN. \n17:30 Closing of the proceedings and upcoming engagements \nXavier GABOARDI.   \nMembers-only meeting. For registration CLICK HERE
URL:https://clusterlombardomobilita.it/en/event/wg-digital-systems-2/
CATEGORIES:WG Business Development
ATTACH;FMTTYPE=image/jpeg:https://clusterlombardomobilita.it/wp-content/uploads/2024/03/Sistemi-digitali.jpg
END:VEVENT
END:VCALENDAR