BEGIN:VCALENDAR
VERSION:2.0
PRODID:-//Cluster Lombardo della Mobilità - ECPv6.15.17//NONSGML v1.0//EN
CALSCALE:GREGORIAN
METHOD:PUBLISH
X-ORIGINAL-URL:https://clusterlombardomobilita.it/en/
X-WR-CALDESC:Events for Cluster Lombardo della Mobilità
REFRESH-INTERVAL;VALUE=DURATION:PT1H
X-Robots-Tag:noindex
X-PUBLISHED-TTL:PT1H
BEGIN:VTIMEZONE
TZID:UTC
BEGIN:STANDARD
TZOFFSETFROM:+0000
TZOFFSETTO:+0000
TZNAME:UTC
DTSTART:20230101T000000
END:STANDARD
END:VTIMEZONE
BEGIN:VEVENT
DTSTART;VALUE=DATE:20241015
DTEND;VALUE=DATE:20241205
DTSTAMP:20260426T022319
CREATED:20241014T151506Z
LAST-MODIFIED:20241210T080333Z
UID:10000260-1728950400-1733356799@clusterlombardomobilita.it
SUMMARY:Cycle of in-person meetings dedicated to SUSTAINABLE LEADERSHIP - Catholic University of the Sacred Heart in Brescia
DESCRIPTION:We gladly disseminate the interesting series of in-person meetings dedicated to SUSTAINABLE LEADERSHIP\, which begins on Tuesday\, October 15\, 12:30 p.m.\, at the Hall of Glory\, Via Trieste\, 17 at the Catholic University of the Sacred Heart and will continue in October\, November and December according to the program reported.\n\nIt consists of ten lectures open to the public to learn about case histories of the sector through the testimonies of Presidents\, Directors\, C-levels of Banks and Companies and CEOs who have contributed to rewriting the way of sustainability in Italy. \nThe initiative is promoted by the Faculty of Political and Social Sciences of the Catholic University of the Sacred Heart\, Master’s Degree GEOR – Labor Management and Communication For Organizations and OpTer – Observatory For the Territory. \n\n\nThe meetings are in-person\, open to the public\, without registration.
URL:https://clusterlombardomobilita.it/en/event/cycle-of-in-person-meetings-dedicated-to-sustainable-leadership-catholic-university-of-the-sacred-heart-in-brescia/
CATEGORIES:Event attended by CLM,WG Skills
ATTACH;FMTTYPE=application/pdf:https://clusterlombardomobilita.it/wp-content/uploads/2024/10/Locandina-Testimonianze-di-Leadership-sostenibile-ott_dic24_def.pdf
END:VEVENT
BEGIN:VEVENT
DTSTART;VALUE=DATE:20241021
DTEND;VALUE=DATE:20241023
DTSTAMP:20260426T022319
CREATED:20240507T132846Z
LAST-MODIFIED:20240718T093248Z
UID:10000142-1729468800-1729641599@clusterlombardomobilita.it
SUMMARY:5th International Conference on Biofuels and Bioenergy
DESCRIPTION:In-person event at ANA Crowne Plaza Narita\, Tokyo\, Japan. \nAbstract Submission: Biofuels 2024
URL:https://clusterlombardomobilita.it/en/event/5th-international-conference-on-biofuels-and-bioenergy/
CATEGORIES:Event attended by CLM,WG Renewable Fuels
ATTACH;FMTTYPE=application/pdf:https://clusterlombardomobilita.it/wp-content/uploads/2024/05/1714544064.pdf
END:VEVENT
BEGIN:VEVENT
DTSTART;TZID=UTC:20241022T093000
DTEND;TZID=UTC:20241022T170000
DTSTAMP:20260426T022319
CREATED:20241021T082048Z
LAST-MODIFIED:20241021T082704Z
UID:10000262-1729589400-1729616400@clusterlombardomobilita.it
SUMMARY:"AI IN ACTION: Technology and Culture" - CSMT V. Branze 45\, Brescia
DESCRIPTION:We are pleased to disseminate the exclusive meeting\, organized by our member CSMT – Innovative Contamination Hub in collaboration with Microsoft and Lenovo\, scheduled for October 22\, 2024 from 9:30 am:  AI IN ACTION: Technology and Culture. | CSMT  \nExperience the business process revolution with COPILOT: from operational efficiency to cross-functional collaboration . \nThe adoption of new technologies is changing traditional paradigms\, pushing organizations to become more agile and collaborative. In this context\, the importance of a corporate culture open to innovation and change becomes crucial to attracting and retaining talent\, fostering a stimulating and productive work environment. The meeting is a unique opportunity to discover the business process revolution\, delving into key topics such asoperational efficiency and collaboration between business functions.   \nDuring the event\, you will have the opportunity to hear from industry experts and learn about the latest in technology that can support your company’s growth and innovation. We will see the potential of Microsoft Copilot\, a tool designed to enhance productivity and improve interaction with Office applications.  \n\nInsights into how artificial intelligence is transforming business dynamics.\nImplementation of new technologies.\nCorporate culture and opportunities for discussion with industry professionals and representatives of leading companies.\n\nAt 2:30 p.m.\, it is possible to participate in a demo session reserved for a small group of ten participants (by prior application for the DEMO session). \nIn-person event C/O CSMT – VIA BRANZE 45 BRESCIA – UNIVERSITY OF BRESCIA STUDIES CAMPUS – ENGINEERING. \nTo participate you can register here AI IN ACTION: Technology and Culture Tickets\, Tue\, Oct 22 2024 at 09:30 | Eventbrite   \n  For the Cluster\, President Dr. Saverio Gaboardi will participate.  Or write to: rsvp formazione@csmt.it
URL:https://clusterlombardomobilita.it/en/event/ai-in-action-technology-and-culture-csmt-v-branze-45-brescia/
CATEGORIES:WG Business Development
ATTACH;FMTTYPE=application/pdf:https://clusterlombardomobilita.it/wp-content/uploads/2024/10/Invito-AI-in-Azione-con-Microsoft-e-Lenovo-22-ottobre-2024.pdf
END:VEVENT
END:VCALENDAR